BEGIN:VCALENDAR
VERSION:2.0
PRODID:-//TLA Kancelaria - ECPv6.15.12.2//NONSGML v1.0//EN
CALSCALE:GREGORIAN
METHOD:PUBLISH
X-WR-CALNAME:TLA Kancelaria
X-ORIGINAL-URL:https://tla-kancelaria.pl
X-WR-CALDESC:Wydarzenia dla TLA Kancelaria
REFRESH-INTERVAL;VALUE=DURATION:PT1H
X-Robots-Tag:noindex
X-PUBLISHED-TTL:PT1H
BEGIN:VTIMEZONE
TZID:Europe/Warsaw
BEGIN:DAYLIGHT
TZOFFSETFROM:+0100
TZOFFSETTO:+0200
TZNAME:CEST
DTSTART:20240331T010000
END:DAYLIGHT
BEGIN:STANDARD
TZOFFSETFROM:+0200
TZOFFSETTO:+0100
TZNAME:CET
DTSTART:20241027T010000
END:STANDARD
BEGIN:DAYLIGHT
TZOFFSETFROM:+0100
TZOFFSETTO:+0200
TZNAME:CEST
DTSTART:20250330T010000
END:DAYLIGHT
BEGIN:STANDARD
TZOFFSETFROM:+0200
TZOFFSETTO:+0100
TZNAME:CET
DTSTART:20251026T010000
END:STANDARD
BEGIN:DAYLIGHT
TZOFFSETFROM:+0100
TZOFFSETTO:+0200
TZNAME:CEST
DTSTART:20260329T010000
END:DAYLIGHT
BEGIN:STANDARD
TZOFFSETFROM:+0200
TZOFFSETTO:+0100
TZNAME:CET
DTSTART:20261025T010000
END:STANDARD
END:VTIMEZONE
BEGIN:VEVENT
DTSTART;TZID=Europe/Warsaw:20250121T100000
DTEND;TZID=Europe/Warsaw:20250121T140000
DTSTAMP:20260423T082357
CREATED:20241219T085751Z
LAST-MODIFIED:20250123T102522Z
UID:25113-1737453600-1737468000@tla-kancelaria.pl
SUMMARY:Rozmowy o prawie pracy | Espresso HR
DESCRIPTION:Serdecznie zapraszamy Państwa na współorganizowane przez TLA bezpłatne\, stacjonarne wydarzenie  z zakresu prawa pracy: Espresso HR\, które odbędzie się 21 stycznia 2025 roku we Wrocławiu w Q Hotel Plus (ul. Szwedzka 7\, Wrocław Bielany) w godzinach 10:00-14:00. [Obowiązują zapisy.] \n  \nProgram wydarzenia:\nI. Powitanie gości\nII. Część I  – Pracownik w mediach społecznościowych a ingerencja pracodawcy\n\nInformacje zamieszczane przez pracowników w Internecie i mediach społecznościowych a naruszanie dóbr pracodawcy\, innych pracowników\, mowa nienawiści\, wulgaryzmy\,\nMożliwości przeciwdziałania przez pracodawcę negatywnym aktywnościom pracowników w Internecie i mediach społecznościowych.\nDozwolona krytyka pracodawcy a zasady współżycia społecznego i obowiązki pracownicze.\nUjawnienie publiczne.\nSkutki barku przeciwdziałania negatywnej dla pracodawcy aktywności pracowników w Internecie i mediach społecznościowych.\nPanel Q&A\n\nIII. Przerwa kawowa\nIV. Część II  – Monitoring w pracy a możliwość kontroli pracownika\n\nDopuszczalne formy monitoringu w zakładzie pracy.\nMonitoring a RODO.\nInne możliwe formy kontroli pracownika (m.in. GPS\, skrzynka e-mail\, Internet).\nWykorzystywanie monitoringu do innych celów (m.in. postępowania sądowe\, dyscyplinarne\, wypowiedzenie).\nDopuszczalność nagrywania rozmów z pracownikiem.\nPanel Q&A\n\n  \nPrelegenci:\n\nIzabela Mendyk-Pichur – Partner w Kancelarii TLA\, radca prawny\nKarolina Obuchowicz – Radca prawny w Kancelarii TLA\n\n  \nInformacje dodatkowe:\n\nObowiązują zapisy. Zapisy są możliwe przez poniższy formularz\, który jest otwarty do 15.01.2025 r. do godz. 10:00. W przypadku problemów z zapisem prosimy o kontakt pod adresem kancelaria@tla-kancelaria.pl (W spotkaniu mogą wziąć udział maksymalnie dwie osoby z danej firmy.)\nNa miejscu wydarzenia dostępny jest parking.\n\n  \nOrganizatorzy:\nTLA Smoczyński Koniewski – grono doświadczonych ekspertów podatkowych i prawnych doradzających zarówno podmiotom korporacyjnym\, jak i indywidualnym w zakresie efektywnego prowadzenia i optymalizowania procesów biznesowych.\nWałbrzyska Specjalna Strefa Ekonomiczna „INVEST-PARK”sp. z o.o. (WSSE INVEST-PARK)  jest jedną z 14 państwowych podmiotów wydających decyzje o inwestycji. WSSE ma ponad 20-letnie doświadczenie w lokowaniu i wsparciu inwestycji zarówno globalnych koncernów\, jak i średnich\, małych i mikro przedsiębiorstw. WSSE wspiera rozwój regionalny i tworzy przyjazny klimat dla rozwoju biznesu.\nKamiennogórska Specjalna Strefa Ekonomiczna Małej Przedsiębiorczości (SSEMP S.A.) została utworzona na mocy ustawy z 20 października 1994 r. o specjalnych strefach ekonomicznych. Jej siedziba mieści się w Kamiennej Górze. Zgodnie z Rozporządzeniem Ministra Przedsiębiorczości i Technologii z 29 sierpnia 2018 r.\, obszar KSSEMP obejmuje powiaty: bolesławiecki\, kamiennogórski\, karkonoski\, lubański\, lwówecki\, milicki\, trzebnicki\, zgorzelecki\, miasto na prawach powiatu Jelenia Góra (woj. dolnośląskie) oraz powiaty kępiński i ostrowski (woj. wielkopolskie). Przedsiębiorcy inwestujący na terenie KSSEMP mogą korzystać z pomocy publicznej w formie zwolnień podatkowych\, których wysokość zależy od wielkości przedsiębiorstwa i poniesionych nakładów inwestycyjnych.\n  \n 
URL:https://tla-kancelaria.pl/wydarzenie/rozmowy-o-prawie-pracy-espresso-hr/
LOCATION:Q Hotel Plus\, ul. Szwedzka 7\, Wrocław Bielany\, Poland
CATEGORIES:Prawo pracy
ATTACH;FMTTYPE=image/jpeg:https://tla-kancelaria.pl/wp-content/uploads/2024/12/Espresso-HR_3.jpg
ORGANIZER;CN="TLA Kancelaria":MAILTO:kancelaria@tla-kancelaria.pl
END:VEVENT
END:VCALENDAR