BEGIN:VCALENDAR
VERSION:2.0
PRODID:-//TLA Kancelaria - ECPv6.15.12.2//NONSGML v1.0//EN
CALSCALE:GREGORIAN
METHOD:PUBLISH
X-WR-CALNAME:TLA Kancelaria
X-ORIGINAL-URL:https://tla-kancelaria.pl
X-WR-CALDESC:Wydarzenia dla TLA Kancelaria
REFRESH-INTERVAL;VALUE=DURATION:PT1H
X-Robots-Tag:noindex
X-PUBLISHED-TTL:PT1H
BEGIN:VTIMEZONE
TZID:Europe/Warsaw
BEGIN:DAYLIGHT
TZOFFSETFROM:+0100
TZOFFSETTO:+0200
TZNAME:CEST
DTSTART:20240331T010000
END:DAYLIGHT
BEGIN:STANDARD
TZOFFSETFROM:+0200
TZOFFSETTO:+0100
TZNAME:CET
DTSTART:20241027T010000
END:STANDARD
BEGIN:DAYLIGHT
TZOFFSETFROM:+0100
TZOFFSETTO:+0200
TZNAME:CEST
DTSTART:20250330T010000
END:DAYLIGHT
BEGIN:STANDARD
TZOFFSETFROM:+0200
TZOFFSETTO:+0100
TZNAME:CET
DTSTART:20251026T010000
END:STANDARD
BEGIN:DAYLIGHT
TZOFFSETFROM:+0100
TZOFFSETTO:+0200
TZNAME:CEST
DTSTART:20260329T010000
END:DAYLIGHT
BEGIN:STANDARD
TZOFFSETFROM:+0200
TZOFFSETTO:+0100
TZNAME:CET
DTSTART:20261025T010000
END:STANDARD
END:VTIMEZONE
BEGIN:VEVENT
DTSTART;TZID=Europe/Warsaw:20250515T103000
DTEND;TZID=Europe/Warsaw:20250515T133000
DTSTAMP:20260423T005920
CREATED:20250428T122714Z
LAST-MODIFIED:20250428T122714Z
UID:27140-1747305000-1747315800@tla-kancelaria.pl
SUMMARY:Rozmowy o prawie pracy | Espresso HR | Akcelerator Biznesowy KSSENON Żory
DESCRIPTION:Serdecznie zapraszamy Państwa na współorganizowane przez TLA bezpłatne\, stacjonarne wydarzenie  z zakresu prawa pracy: Espresso HR\, które odbędzie się w czwartek 15 maja 2025 roku. [Obowiązują zapisy.]  \nMiejsce: Akcelerator Biznesowy KSSENON budynek D ul. Rozwojowa 2\, Żory \nGodzina: 10:30 – 13:30 \nZapisy: ESPRESSO HR – Porozmawiajmy o prawie pracy – Szkolenia w żory\, 15.05.2025 – Evenea.pl \n  \nAgenda:\n10:30 – Powitanie gości \n10:45 Część I – Pracownik w mediach społecznościowych a ingerencja pracodawcy \n\nInformacje zamieszczane przez pracowników w Internecie i mediach społecznościowych – naruszenia dóbr pracodawcy\, innych pracowników\, mowa nienawiści\, wulgaryzmy\nMożliwości przeciwdziałania przez pracodawcę negatywnym aktywnościom pracowników w sieci\nUjawnienie publiczne a prywatność\nSkutki braku reakcji na działania szkodliwe dla wizerunku pracodawcy\n\n11:45 – Przerwa kawowa \n12:00 Część II – Monitoring w pracy a możliwość kontroli pracownika \n\nDopuszczalne formy monitoringu w zakładzie pracy\nInne możliwe formy kontroli pracownika (np. monitoring skrzynki e-mail\, aktywności internetowej)\nWykorzystanie monitoringu jako dowodów w postępowaniach sądowych lub dyscyplinarnych\nDopuszczalność nagrywania rozmów z pracownikiem\n\n13:00 – Q&A oraz sesja networkingowa \n\nPrelegenci:\n\nIzabela Mendyk-Pichur – Partner w Kancelarii TLA\, radca prawny\nKarolina Obuchowicz – Radca prawny w Kancelarii TLA\n\n  \n  \nOrganizatorzy:\nTLA Smoczyński Koniewski – grono doświadczonych ekspertów podatkowych i prawnych doradzających zarówno podmiotom korporacyjnym\, jak i indywidualnym w zakresie efektywnego prowadzenia i optymalizowania procesów biznesowych.\nKSSE S.A – Katowicka Specjalna Strefa Ekonomiczna\nKSSENON – Akcelerator Biznesowy\nBPCC (Brytyjsko-Polska Izba Handlowa) jest organizacją działającą od 1992 roku na rzecz rozwoju polsko-brytyjskiej współpracy gospodarczej. Misją BPCC jest wspieranie interesów swoich członków poprzez promowanie dwustronnego handlu i inwestycji między Polską a Wielką Brytanią.\n  \n 
URL:https://tla-kancelaria.pl/wydarzenie/rozmowy-o-prawie-pracy-espresso-hr-zory/
LOCATION:Akcelerator Biznesowy KSSENON\, budynek D ul. Rozwojowa 2\, Żory\, Poland
CATEGORIES:Prawo pracy
ATTACH;FMTTYPE=image/png:https://tla-kancelaria.pl/wp-content/uploads/2025/04/ESPRESSO-HR-POST-FB.png
ORGANIZER;CN="TLA Kancelaria":MAILTO:kancelaria@tla-kancelaria.pl
END:VEVENT
END:VCALENDAR