BEGIN:VCALENDAR
VERSION:2.0
PRODID:-//TLA Kancelaria - ECPv6.15.12.2//NONSGML v1.0//EN
CALSCALE:GREGORIAN
METHOD:PUBLISH
X-WR-CALNAME:TLA Kancelaria
X-ORIGINAL-URL:https://tla-kancelaria.pl
X-WR-CALDESC:Wydarzenia dla TLA Kancelaria
REFRESH-INTERVAL;VALUE=DURATION:PT1H
X-Robots-Tag:noindex
X-PUBLISHED-TTL:PT1H
BEGIN:VTIMEZONE
TZID:Europe/Warsaw
BEGIN:DAYLIGHT
TZOFFSETFROM:+0100
TZOFFSETTO:+0200
TZNAME:CEST
DTSTART:20250330T010000
END:DAYLIGHT
BEGIN:STANDARD
TZOFFSETFROM:+0200
TZOFFSETTO:+0100
TZNAME:CET
DTSTART:20251026T010000
END:STANDARD
BEGIN:DAYLIGHT
TZOFFSETFROM:+0100
TZOFFSETTO:+0200
TZNAME:CEST
DTSTART:20260329T010000
END:DAYLIGHT
BEGIN:STANDARD
TZOFFSETFROM:+0200
TZOFFSETTO:+0100
TZNAME:CET
DTSTART:20261025T010000
END:STANDARD
BEGIN:DAYLIGHT
TZOFFSETFROM:+0100
TZOFFSETTO:+0200
TZNAME:CEST
DTSTART:20270328T010000
END:DAYLIGHT
BEGIN:STANDARD
TZOFFSETFROM:+0200
TZOFFSETTO:+0100
TZNAME:CET
DTSTART:20271031T010000
END:STANDARD
END:VTIMEZONE
BEGIN:VEVENT
DTSTART;TZID=Europe/Warsaw:20260420T093000
DTEND;TZID=Europe/Warsaw:20260420T143000
DTSTAMP:20260420T161839
CREATED:20260304T084122Z
LAST-MODIFIED:20260304T112311Z
UID:29289-1776677400-1776695400@tla-kancelaria.pl
SUMMARY:Tax Technology i pełna ekspozycja ryzyka | Espresso Podatkowe
DESCRIPTION:Serdecznie zapraszamy Państwa na nieodpłatne\, stacjonarne Espresso Podatkowe – „Tax Technology i pełna ekspozycja ryzyka. Co już nie ukryje się przed organami?” organizowane przez Kancelarię TLA. \nWydarzenie odbędzie się 20 kwietnia 2026 roku we Wrocławiu w Q Hotel Plus (ul. Szwedzka 7\, Wrocław Bielany) w godzinach 9:30-14:30. [Obowiązują zapisy.] \nAgenda: \n\nCzęść I : Tax Technology: jak zmieniły się zasady gry?\n\nBig Data\, automatyzacja typowania\, skuteczność kontroli;\n\n\n\n\nCzęść II: JPK – CIT: technologiczna nowość „na czasie” (z uwzględnieniem SSE):\n\nPrzebudowa planu kont/Uzupełnianie danych księgowych (architektura danych pod wymogi JPK_CIT);\nZnaczniki podatkowe (konta pozabilansowe jako konieczne rozwiązanie);\nUzgadnianie wyniku podatkowego (czy Excel będzie jeszcze konieczny?);\nNajczęstsze problemy (i sprawdzone rozwiązania);\n\n\n\n\nCzęść III: Case study: koniec „szarej strefy” (przypadki\, które kiedyś mogły być niewidoczne\, a dziś „świecą się na czerwono”) m.in.:\n\nRestrukturyzacje (oddanie produkcji/klientów a brak faktury za „exit fee”);\nManagement fees z grupy (systemowe wyłapywanie dublowania usług z lokalnymi);\nNieodpłatne pożyczki i poręczenia (brak w KSeF\, twardy ślad w bilansie);\nMetodologia rozliczenia pomocy SSE (cyfrowa weryfikacja alokacji kosztów);\n\n\n\n\nCzęść IV: Q&A: Konfrontacja z algorytmem\n\nczy „moje” zapisy rodzą ryzyko?\n\n\n\nProgram wydarzenia:\n\n9.30 – 10.00: Rejestracja i przywitanie uczestników\n10.00 – 11.00: Tax Technology: jak zmieniły się zasady gry?\n11.00 – 11.15: Przerwa kawowa\n11.15 – 12.30: JPK – CIT: technologiczna nowość „na czasie” (z uwzględnieniem SSE)\n12.30 – 13.00: Przerwa kawowa\n13.00 – 14.30: Case study: koniec „szarej strefy” + Panel Q&A\n\n  \nPrelegenci:\n\nKrzysztof Koniewski – Partner w Kancelarii TLA\, doradca podatkowy\nSzymon Jordan – Partner w Kancelarii TLA\, doradca podatkowy\nRemigiusz Markiel – Menadżer w Kancelarii TLA\, doradca podatkowy\n\n  \nInformacje dodatkowe:\n\nObowiązują zapisy. (W spotkaniu mogą wziąć udział maksymalnie dwie osoby z danej firmy.)\nZapisy są możliwe przez poniższy formularz\, który jest otwarty do 15.04.2025 r. do godz. 10:00. W przypadku problemów z zapisem prosimy o kontakt pod adresem kancelaria@tla-kancelaria.pl\nParking: Nieodpłatny\, zarezerwowany dla uczestników Espresso\n\n  \nOrganizatorzy:\nTLA Smoczyński Koniewski – grono doświadczonych ekspertów podatkowych i prawnych doradzających zarówno podmiotom korporacyjnym\, jak i indywidualnym w zakresie efektywnego prowadzenia i optymalizowania procesów biznesowych.\nBPCC (Brytyjsko-Polska Izba Handlowa) jest organizacją działającą od 1992 roku na rzecz rozwoju polsko-brytyjskiej współpracy gospodarczej. Misją BPCC jest wspieranie interesów swoich członków poprzez promowanie dwustronnego handlu i inwestycji między Polską a Wielką Brytanią.\nWałbrzyska Specjalna Strefa Ekonomiczna „INVEST-PARK”sp. z o.o. (WSSE INVEST-PARK)  jest jedną z 14 państwowych podmiotów wydających decyzje o inwestycji. WSSE ma ponad 20-letnie doświadczenie w lokowaniu i wsparciu inwestycji zarówno globalnych koncernów\, jak i średnich\, małych i mikro przedsiębiorstw. WSSE wspiera rozwój regionalny i tworzy przyjazny klimat dla rozwoju biznesu.\nKamiennogórska Specjalna Strefa Ekonomiczna Małej Przedsiębiorczości (SSEMP S.A.) została utworzona na mocy ustawy z 20 października 1994 r. o specjalnych strefach ekonomicznych. Jej siedziba mieści się w Kamiennej Górze. Zgodnie z Rozporządzeniem Ministra Przedsiębiorczości i Technologii z 29 sierpnia 2018 r.\, obszar KSSEMP obejmuje powiaty: bolesławiecki\, kamiennogórski\, karkonoski\, lubański\, lwówecki\, milicki\, trzebnicki\, zgorzelecki\, miasto na prawach powiatu Jelenia Góra (woj. dolnośląskie) oraz powiaty kępiński i ostrowski (woj. wielkopolskie). Przedsiębiorcy inwestujący na terenie KSSEMP mogą korzystać z pomocy publicznej w formie zwolnień podatkowych\, których wysokość zależy od wielkości przedsiębiorstwa i poniesionych nakładów inwestycyjnych.\nLegnicka Specjalna Strefa Ekonomiczna S.A. – Specjalna strefa ekonomiczna ustanowiona rozporządzeniem Rady Ministrów z 15 kwietnia 1997 r. Obejmuje 18 podstref położonych w środkowej części województwa dolnośląskiego. Zajmują łącznie powierzchnię blisko 1500 ha (na których decyzja o wsparciu ważna jest 15 lat).\n  \n 
URL:https://tla-kancelaria.pl/wydarzenie/tax-technology-i-pelna-ekspozycja-ryzyka-espresso-podatkowe/
LOCATION:Q Hotel Plus\, ul. Szwedzka 7\, Wrocław Bielany\, Poland
CATEGORIES:Podatki
ATTACH;FMTTYPE=image/jpeg:https://tla-kancelaria.pl/wp-content/uploads/2026/03/WROCLAW_poziom_strefy.jpg
ORGANIZER;CN="TLA Kancelaria":MAILTO:kancelaria@tla-kancelaria.pl
END:VEVENT
END:VCALENDAR