BEGIN:VCALENDAR
VERSION:2.0
PRODID:-//TLA Kancelaria - ECPv6.15.12.2//NONSGML v1.0//EN
CALSCALE:GREGORIAN
METHOD:PUBLISH
X-ORIGINAL-URL:https://tla-kancelaria.pl
X-WR-CALDESC:Wydarzenia dla TLA Kancelaria
REFRESH-INTERVAL;VALUE=DURATION:PT1H
X-Robots-Tag:noindex
X-PUBLISHED-TTL:PT1H
BEGIN:VTIMEZONE
TZID:Europe/Warsaw
BEGIN:DAYLIGHT
TZOFFSETFROM:+0100
TZOFFSETTO:+0200
TZNAME:CEST
DTSTART:20230326T010000
END:DAYLIGHT
BEGIN:STANDARD
TZOFFSETFROM:+0200
TZOFFSETTO:+0100
TZNAME:CET
DTSTART:20231029T010000
END:STANDARD
BEGIN:DAYLIGHT
TZOFFSETFROM:+0100
TZOFFSETTO:+0200
TZNAME:CEST
DTSTART:20240331T010000
END:DAYLIGHT
BEGIN:STANDARD
TZOFFSETFROM:+0200
TZOFFSETTO:+0100
TZNAME:CET
DTSTART:20241027T010000
END:STANDARD
BEGIN:DAYLIGHT
TZOFFSETFROM:+0100
TZOFFSETTO:+0200
TZNAME:CEST
DTSTART:20250330T010000
END:DAYLIGHT
BEGIN:STANDARD
TZOFFSETFROM:+0200
TZOFFSETTO:+0100
TZNAME:CET
DTSTART:20251026T010000
END:STANDARD
END:VTIMEZONE
BEGIN:VEVENT
DTSTART;TZID=Europe/Warsaw:20241114T090000
DTEND;TZID=Europe/Warsaw:20241114T133000
DTSTAMP:20260423T114854
CREATED:20240906T072444Z
LAST-MODIFIED:20241010T081839Z
UID:23770-1731574800-1731591000@tla-kancelaria.pl
SUMMARY:Szkolenie TLA | VAT - podstawy rozliczania | 450 zł netto
DESCRIPTION:Serdecznie zapraszamy Państwa na płatne webinarium z cyklu szkoleń TLA o podatku VAT. Szkolenie VAT – podstawy rozliczeń\, odbędzie się 14 listopada 2024 roku o godzinie 9:00.  \n  \nDo kogo kierujemy szkolenie? \nSzkolenie jest dedykowane osobom\, które rozpoczynają swoją pracę z podatkiem VAT\, jak również takim\, które chcą uzupełnić lub zaktualizować swoją wiedzę – dla pracowników działów księgowych\, finansowych\, ale też osób zajmujących się wsparciem w zakresie rozliczania\, wystawiania faktur. \nSzkolenie ma na celu przedstawienie zagadnień z VAT\, które mają wpływ na rozliczenia tego podatku. Poruszone tematy pozwolą na kompleksowe spojrzenie w zakresie rozliczeń dotyczących VAT. \nPodczas szkolenia Uczestnicy będą mieli możliwość zadawania pytań na czacie\, na które odpowiemy na końcu spotkania. \n\nPlan szkolenia:\n\nCzynności opodatkowane VAT\nMiejsce opodatkowania\nMoment powstania obowiązku podatkowego\nPodstawa opodatkowania\nWystawianie faktur:\n\n\n\n\nterminy wystawienia\nanulowanie faktur\, korekta do zera\nfaktury proforma\, faktury zaliczkowe i rozliczeniowe\nnota korygująca a faktura korygująca\nrefaktury\nduplikaty faktur\nsamofakturowanie\nskutki błędnie wystawionych faktur\n\n\n\n\nRozliczanie korekt\nPrawo do odliczenia\nTransakcje międzynarodowe:\n\n\n\n\nwewnątrzwspólnotowa dostawa towarów\nwewnątrzwspólnotowe nabycie towarów\neksport towarów\neksport usług\nimport towarów i import usług\n\n\n\n\nSesja Q&A\n\nCzas trwania: 4\,5 h (w tym 2 przerwy po 10 minut) \nCena: 450 PLN netto od osoby / Przy zakupie obu szkoleń z cyklu VAT – 10% \, sprawdź – VAT – transakcje międzynarodowe w obrocie towarowym. \n  \nPo szkoleniu:\nPo zakończonym spotkaniu każdy z Uczestników otrzyma materiały szkoleniowe: dostęp do nagrania na okres 3 miesięcy oraz prezentację. \nWystawimy również certyfikat potwierdzający uczestnictwo w szkoleniu. \n  \nProwadzący:\n\nMagdalena Jastrowicz-Sury– Manager w Kancelarii TLA\, doradca podatkowy\nWiktoria Szpineta  – Starszy konsultant w Kancelarii TLA\n\n\nZAPISY:\nW celu zapisania się na szkolenie prosimy o bezpośredni kontakt z Magdaleną Jastrowicz-Sury – magdalena.jastrowicz@tla-kancelaria.pl \nUWAGA:\nWarunkiem otrzymania aktywnego linku do szkolenia jest dokonanie płatności do 12.11.2024 r.
URL:https://tla-kancelaria.pl/wydarzenie/szkolenie-tla-vat-podstawy-rozliczania/
CATEGORIES:VAT
ATTACH;FMTTYPE=image/svg+xml:https://tla-kancelaria.pl/wp-content/uploads/2024/09/20240905_TLA-VAT_Podstawy_szkolenie.svg
ORGANIZER;CN="TLA Kancelaria":MAILTO:kancelaria@tla-kancelaria.pl
END:VEVENT
BEGIN:VEVENT
DTSTART;TZID=Europe/Warsaw:20241128T090000
DTEND;TZID=Europe/Warsaw:20241128T123000
DTSTAMP:20260423T114854
CREATED:20240906T074134Z
LAST-MODIFIED:20241010T081803Z
UID:23783-1732784400-1732797000@tla-kancelaria.pl
SUMMARY:Szkolenie TLA | VAT - transakcje międzynarodowe w obrocie towarowym | 450 zł netto
DESCRIPTION:Serdecznie zapraszamy Państwa na płatne webinarium z cyklu szkoleń TLA o podatku VAT. Szkolenie VAT – transakcje międzynarodowe w obrocie towarowym\, odbędzie się 28 listopada 2024 roku o godzinie 9:00.  \n  \nDo kogo kierujemy szkolenie? \nSzkolenie jest dedykowane pracownikom działów księgowych\, finansowych\, ale też osobom zajmującym się wsparciem w zakresie rozliczania\, wystawiania faktur. \nSzkolenie ma na celu przedstawienie zagadnień z transakcji łańcuchowych\, które mogą pojawić się w przedsiębiorstwie\, ze wskazaniem ryzyka oraz przykładów transakcji VAT\, które mają wpływ na rozliczenia tego podatku. Poruszone tematy pozwolą na kompleksowe spojrzenie w zakresie rozliczeń dotyczących VAT. \n  \nPlan szkolenia:\n\n Wewnątrzwspólnotowa dostawa towarów:\n– Moment rozliczania\n– Dokumenty potwierdzające WDT\n Wewnątrzwspólnotowe nabycie towarów\n Eksport:\n– Moment rozliczania\n– Zaliczki\n– Dokumenty potwierdzające eksport\n Transakcje łańcuchowe:\n– Ryzyka w rozliczaniu transakcji łańcuchowych\n– Dostawa ruchoma\n– Organizacja transportu a Incoterms\n– Przykłady transakcji łańcuchowych\,\n– Transakcje trójstronne uproszczone\n Sesja Q&A\n\nCzas trwania: 3\,5 h (w tym 1 przerwa 15 minut) \nCena: 450 PLN netto od osoby / Przy zakupie obu szkoleń z cyklu VAT – 10% \, sprawdź – VAT – podstawy rozliczania. \n  \nPo szkoleniu:\nPo zakończonym spotkaniu każdy z Uczestników otrzyma materiały szkoleniowe: dostęp do nagrania na okres 3 miesięcy oraz prezentację. \nWystawimy również certyfikat potwierdzający uczestnictwo w szkoleniu. \n\nProwadzący:\n\nMagdalena Jastrowicz-Sury– Manager w Kancelarii TLA\, doradca podatkowy\nWiktoria Szpineta  – Starszy konsultant w Kancelarii TLA\n\n  \nZAPISY:\nW celu zapisania się na szkolenie prosimy o bezpośredni kontakt z Magdaleną Jastrowicz-Sury – magdalena.jastrowicz@tla-kancelaria.pl \nUWAGA:\nWarunkiem otrzymania aktywnego linku do szkolenia jest dokonanie płatności do 26.11.2024 r. \n 
URL:https://tla-kancelaria.pl/wydarzenie/szkolenie-tla-vat-transakcje-miedzynarodowe-w-obrocie-towarowym/
CATEGORIES:VAT
ATTACH;FMTTYPE=image/svg+xml:https://tla-kancelaria.pl/wp-content/uploads/2024/09/20240905_TLA-VAT_Transakcje_szkolenie.svg
ORGANIZER;CN="TLA Kancelaria":MAILTO:kancelaria@tla-kancelaria.pl
END:VEVENT
END:VCALENDAR