BEGIN:VCALENDAR
VERSION:2.0
PRODID:-//TLA Kancelaria - ECPv6.15.12.2//NONSGML v1.0//EN
CALSCALE:GREGORIAN
METHOD:PUBLISH
X-ORIGINAL-URL:https://tla-kancelaria.pl
X-WR-CALDESC:Wydarzenia dla TLA Kancelaria
REFRESH-INTERVAL;VALUE=DURATION:PT1H
X-Robots-Tag:noindex
X-PUBLISHED-TTL:PT1H
BEGIN:VTIMEZONE
TZID:Europe/Warsaw
BEGIN:DAYLIGHT
TZOFFSETFROM:+0100
TZOFFSETTO:+0200
TZNAME:CEST
DTSTART:20220327T010000
END:DAYLIGHT
BEGIN:STANDARD
TZOFFSETFROM:+0200
TZOFFSETTO:+0100
TZNAME:CET
DTSTART:20221030T010000
END:STANDARD
BEGIN:DAYLIGHT
TZOFFSETFROM:+0100
TZOFFSETTO:+0200
TZNAME:CEST
DTSTART:20230326T010000
END:DAYLIGHT
BEGIN:STANDARD
TZOFFSETFROM:+0200
TZOFFSETTO:+0100
TZNAME:CET
DTSTART:20231029T010000
END:STANDARD
BEGIN:DAYLIGHT
TZOFFSETFROM:+0100
TZOFFSETTO:+0200
TZNAME:CEST
DTSTART:20240331T010000
END:DAYLIGHT
BEGIN:STANDARD
TZOFFSETFROM:+0200
TZOFFSETTO:+0100
TZNAME:CET
DTSTART:20241027T010000
END:STANDARD
BEGIN:DAYLIGHT
TZOFFSETFROM:+0100
TZOFFSETTO:+0200
TZNAME:CEST
DTSTART:20250330T010000
END:DAYLIGHT
BEGIN:STANDARD
TZOFFSETFROM:+0200
TZOFFSETTO:+0100
TZNAME:CET
DTSTART:20251026T010000
END:STANDARD
BEGIN:DAYLIGHT
TZOFFSETFROM:+0100
TZOFFSETTO:+0200
TZNAME:CEST
DTSTART:20260329T010000
END:DAYLIGHT
BEGIN:STANDARD
TZOFFSETFROM:+0200
TZOFFSETTO:+0100
TZNAME:CET
DTSTART:20261025T010000
END:STANDARD
END:VTIMEZONE
BEGIN:VEVENT
DTSTART;TZID=Europe/Warsaw:20250225T110000
DTEND;TZID=Europe/Warsaw:20250225T120000
DTSTAMP:20260422T111450
CREATED:20250205T100138Z
LAST-MODIFIED:20250205T100228Z
UID:25907-1740481200-1740484800@tla-kancelaria.pl
SUMMARY:Nieodpłatne webinarium TLA | Polityka przeciwdziałania mobbingowi i dyskryminacji – zagadnienia wybrane cz. II
DESCRIPTION:Serdecznie zapraszamy Państwa na bezpłatny webinar TLA: Polityka przeciwdziałania mobbingowi i dyskryminacji – zagadnienia wybrane cz. II\, który odbędzie się 25 lutego 2025 roku o godzinie 11:00. \nPodczas webinaru omówimy takie zagadnienia jak:\n\nJak reagować – postępowanie w sprawach o mobbing i dyskryminację.\nMożliwości przeciwdziałania przez pracodawcę zachowaniom o charakterze mobbingu i dyskryminacji.\nSygnaliści w zakładzie pracy – zgłaszanie nieprawidłowości w miejscu pracy.\nSkutki braku przeciwdziałania zachowaniom o charakterze mobbingu i dyskryminacji.\nStudium przypadku – najczęstsze wątpliwości.\nQ&A\n\nPodczas spotkania Uczestnicy będą mieli możliwość zadawania pytań na czacie\, na które postaramy się odpowiedzieć na końcu webinaru. \nKażdy z zapisanych Uczestników\, po zakończonym spotkaniu otrzyma materiały szkoleniowe (prezentacja i nagranie). \nCzas trwania: 1h  \nProwadzący:\n\nIzabela Mendyk-Pichur – Partner w Kancelarii TLA\, radca prawny\nKarolina Brodzińska-Jaworek – Radca prawny w Kancelarii TLA\n\nUwaga:\n\nProsimy o sprawdzenie poprawności podawanego przez Państwa adresu e-mail\, jeśli adres będzie błędny\, nie otrzymają Państwo maila z linkiem do spotkania.\nZapisy prowadzone są w sposób automatyczny. Jeśli zapisali się Państwo na wydarzenie\, a nie otrzymali maila z linkiem do spotkania\, prosimy o sprawdzenie folderu „spam” Państwa poczty elektronicznej lub o kontakt pod adresem kancelaria@tla-kancelaria.pl.\n\n 
URL:https://tla-kancelaria.pl/wydarzenie/nieodplatne-webinarium-tla-polityka-przeciwdzialania-mobbingowi-i-dyskryminacji-zagadnienia-wybrane-cz-ii/
CATEGORIES:Prawo pracy
ATTACH;FMTTYPE=image/jpeg:https://tla-kancelaria.pl/wp-content/uploads/2025/02/20250225_Polityka-przeciwdzialania-mobbingowi-i-dyskryminacji-–-zagadnienia-wybrane-cz.-II.TLA_.jpg
ORGANIZER;CN="TLA Kancelaria":MAILTO:kancelaria@tla-kancelaria.pl
LOCATION:https://tla-kancelaria.pl/wydarzenie/nieodplatne-webinarium-tla-polityka-przeciwdzialania-mobbingowi-i-dyskryminacji-zagadnienia-wybrane-cz-ii/
END:VEVENT
BEGIN:VEVENT
DTSTART;TZID=Europe/Warsaw:20250204T110000
DTEND;TZID=Europe/Warsaw:20250204T120000
DTSTAMP:20260422T111450
CREATED:20250123T131816Z
LAST-MODIFIED:20250123T143619Z
UID:25696-1738666800-1738670400@tla-kancelaria.pl
SUMMARY:Nieodpłatne webinarium TLA | Polityka przeciwdziałania mobbingowi i dyskryminacji – zagadnienia wybrane cz. I
DESCRIPTION:Serdecznie zapraszamy Państwa na bezpłatny webinar TLA: Polityka przeciwdziałania mobbingowi i dyskryminacji – zagadnienia wybrane cz. I\, który odbędzie się 4 lutego 2025 roku o godzinie 11:00. \nPodczas webinaru omówimy takie zagadnienia jak:\n\nMobbing\, dyskryminacja i molestowanie – charakterystyka pojęć.\nZachowania o charakterze mobbingu lub dyskryminacji – przykłady.\nObowiązki pracowników w zakresie przeciwdziałania mobbingowi i dyskryminacji.\nObowiązki pracodawcy w zakresie przeciwdziałania mobbingowi i dyskryminacji.\nOdpowiedzialność za mobbing i dyskryminację – czy tylko po stronie pracodawcy?\nQ&A\n\nPodczas spotkania Uczestnicy będą mieli możliwość zadawania pytań na czacie\, na które postaramy się odpowiedzieć na końcu webinaru. \nKażdy z zapisanych Uczestników\, po zakończonym spotkaniu otrzyma materiały szkoleniowe (prezentacja i nagranie). \nCzas trwania: 1h  \nProwadzący:\n\nIzabela Mendyk-Pichur – Partner w Kancelarii TLA\, radca prawny\nKarolina Brodzińska-Jaworek – Radca prawny w Kancelarii TLA\n\nUwaga:\n\nProsimy o sprawdzenie poprawności podawanego przez Państwa adresu e-mail\, jeśli adres będzie błędny\, nie otrzymają Państwo maila z linkiem do spotkania.\nZapisy prowadzone są w sposób automatyczny. Jeśli zapisali się Państwo na wydarzenie\, a nie otrzymali maila z linkiem do spotkania\, prosimy o sprawdzenie folderu „spam” Państwa poczty elektronicznej lub o kontakt pod adresem kancelaria@tla-kancelaria.pl.\n\nPartnerzy webinarium:\nCCIFP (Francusko-Polska Izba Gospodarcza) to organizacja zrzeszająca około 400 firm z kapitałem zarówno francuskim\, jak i polskim. Jest jedną z najbardziej aktywnych izb bilateralnych w Polsce. Jej głównym celem jest tworzenie korzystnych warunków dla rozwoju inwestycji i działalności gospodarczej w Polsce.\nBPCC (Brytyjsko-Polska Izba Handlowa) jest organizacją działającą od 1992 roku na rzecz rozwoju polsko-brytyjskiej współpracy gospodarczej. Misją BPCC jest wspieranie interesów swoich członków poprzez promowanie dwustronnego handlu i inwestycji między Polską a Wielką Brytanią.\nPolska Izba Motoryzacji jest organizacją samorządu gospodarczego zarejestrowaną na podstawie Ustawy o izbach gospodarczych. Powstała w 1994 roku i skupia przedstawicieli szeroko rozumianego lobby sektora motoryzacyjnego. Zrzeszamy zarówno małe jak i duże przedsiębiorstwa i stowarzyszenia działające w Polsce.\nSektorowa Rada ds. Kompetencji Motoryzacja i Elektomobilność – Rada ds. kompetencji w sektorze motoryzacyjnym z uwzględnieniem elektromobilności stanowi ogólnopolską platformę wymiany doświadczeń pomiędzy sferą edukacji formalnej i poza formalnej a przedsiębiorcami. Rada buduje partnerstwa przedsiębiorstw z instytucjami rynku pracy\, co pozwala na dostarczenie wiarygodnych danych o potrzebach kwalifikacji w sektorze. W ramach projektu odbiorcami wsparcia są przedsiębiorcy z branży motoryzacyjnej z uwzględnieniem elektromobilności.\nSuwalska Specjalna Strefa Ekonomiczna jest jedną z czternastu specjalnych stref ekonomicznych w Polsce\, które powstały\, aby służyć przyspieszeniu wzrostu gospodarczego w danej części kraju. Organem zarządzającym Strefą jest Suwalska Specjalna Strefa Ekonomiczna Spółka Akcyjna\, która od 1996 r. realizuje cele i zadania warunkujące funkcjonowanie specjalnej strefy ekonomicznej w północno-wschodniej części Polski. Obecnie Suwalska Specjalna Strefa Ekonomiczna S.A. pełni funkcję zarządzającego obszarem wspierania nowych inwestycji o łącznej powierzchni ok. 26 414 km² (2 641 400 ha)\nLegnicka Specjalna Strefa Ekonomiczna S.A. – Specjalna strefa ekonomiczna ustanowiona rozporządzeniem Rady Ministrów z 15 kwietnia 1997 r. Obejmuje 18 podstref położonych w środkowej części województwa dolnośląskiego. Zajmują łącznie powierzchnię blisko 1500 ha (na których decyzja o wsparciu ważna jest 15 lat).
URL:https://tla-kancelaria.pl/wydarzenie/nieodplatne-webinarium-tla-polityka-przeciwdzialania-mobbingowi-i-dyskryminacji-zagadnienia-wybrane-cz-i/
CATEGORIES:Prawo pracy
ATTACH;FMTTYPE=image/jpeg:https://tla-kancelaria.pl/wp-content/uploads/2025/01/20250204_Polityka-przeciwdzialania-mobbingowi_partnerzy.jpg
ORGANIZER;CN="TLA Kancelaria":MAILTO:kancelaria@tla-kancelaria.pl
LOCATION:https://tla-kancelaria.pl/wydarzenie/nieodplatne-webinarium-tla-polityka-przeciwdzialania-mobbingowi-i-dyskryminacji-zagadnienia-wybrane-cz-i/
END:VEVENT
BEGIN:VEVENT
DTSTART;TZID=Europe/Warsaw:20230706T110000
DTEND;TZID=Europe/Warsaw:20230706T120000
DTSTAMP:20260422T111450
CREATED:20230622T121551Z
LAST-MODIFIED:20230622T121702Z
UID:19348-1688641200-1688644800@tla-kancelaria.pl
SUMMARY:Webinar TLA – Zmiany w kodeksie pracy – wybrane zagadnienia praktyczne
DESCRIPTION:Serdecznie zapraszamy Państwa na bezpłatny webinar TLA: „Zmiany w kodeksie pracy – wybrane zagadnienia praktyczne”\, który odbędzie się już 6 lipca 2023 roku o godzinie 11:00. \n  \nPodczas webinaru omówimy takie zagadnienia jak:\n\nPraca zdalna:\n\n\nWniosek osób uprzywilejowanych – zakres związania pracodawcy – przewidziane sankcje art. 281 kp\,\nMiejsce wykonywania (terytorium inne niż RP)\,\nKonieczność ewidencji godzin pracy\,\nGrup pracowników\, mogących świadczyć pracę w formie zdalnej a pracownicy mobilni.\n\n\nPrzejrzyste warunki zatrudnienia:\n\n\nInformacja o warunkach zatrudnienia – problem z ustaleniem zakresem informacji\, jakie mają być przekazane pracownikowi\,\nInformacja o zmianie warunków zatrudnienia\,\nWniosek o zmianę rodzaju umowy o pracę na umowę o pracę na czas nieokreślony lub o bardziej przewidywalne i bezpieczne warunki pracy – terminy\, obowiązki pracodawcy\, sankcje.\n\n\nNowe regulacje w zakresie kar nakładanych na pracodawcę.\n\n  \nPodczas spotkania będzie możliwość zadawania pytań przez Uczestników\, na które postaramy się odpowiedzieć na końcu webinaru. \nPonadto każdy z zapisanych Uczestników\, po zakończonym spotkaniu otrzyma materiały szkoleniowe (prezentacja i nagranie). \nCzas trwania: 1 h\nProwadzący:\n\nIzabela Mendyk-Pichur – Partner w Kancelarii TLA\, radca prawny\nJulia Bar – Manager w Kancelarii TLA\, radca prawny\n\nPartnerzy webinarium:\ninQUBE Uniwersytecki Inkubator Przedsiębiorczości. inQUBE UIP integruje społeczność biznesu. To miejsce pracy\, spotkań\, inspiracji\, nauki i zbierania doświadczeń dla ludzi przedsiębiorczych i aktywnych. Ale oprócz przedsięwzięć edukacyjnych\, inQUBE oferuje miejsca do pracy i spotkań biznesowych. Najemcy mają dostęp do budynku 7 dni w tygodniu\, przez 24 godziny na dobę. Więcej informacji o inkubatorze i organizowanych wydarzeniach można znaleźć na stronie internetowej inQUBE.pl.\nPolska Izba Motoryzacji jest organizacją samorządu gospodarczego zarejestrowaną na podstawie Ustawy o izbach gospodarczych. Powstała w 1994 roku i skupia przedstawicieli szeroko rozumianego lobby sektora motoryzacyjnego. Zrzeszamy zarówno małe jak i duże przedsiębiorstwa i stowarzyszenia działające w Polsce.\nSektorowa Rada ds. Kompetencji Motoryzacja i Elektomobilność – Rada ds. kompetencji w sektorze motoryzacyjnym z uwzględnieniem elektromobilności stanowi ogólnopolską platformę wymiany doświadczeń pomiędzy sferą edukacji formalnej i poza formalnej a przedsiębiorcami. Rada buduje partnerstwa przedsiębiorstw z instytucjami rynku pracy\, co pozwala na dostarczenie wiarygodnych danych o potrzebach kwalifikacji w sektorze. W ramach projektu odbiorcami wsparcia są przedsiębiorcy z branży motoryzacyjnej z uwzględnieniem elektromobilności.\nSuwalska Specjalna Strefa Ekonomiczna jest jedną z czternastu specjalnych stref ekonomicznych w Polsce\, które powstały\, aby służyć przyspieszeniu wzrostu gospodarczego w danej części kraju. Organem zarządzającym Strefą jest Suwalska Specjalna Strefa Ekonomiczna Spółka Akcyjna\, która od 1996 r. realizuje cele i zadania warunkujące funkcjonowanie specjalnej strefy ekonomicznej w północno-wschodniej części Polski. Obecnie Suwalska Specjalna Strefa Ekonomiczna S.A. pełni funkcję zarządzającego obszarem wspierania nowych inwestycji o łącznej powierzchni ok. 26 414 km² (2 641 400 ha)
URL:https://tla-kancelaria.pl/wydarzenie/webinar-tla-zmiany-w-kodeksie-pracy/
CATEGORIES:Praca zdalna,Prawo pracy
ATTACH;FMTTYPE=image/png:https://tla-kancelaria.pl/wp-content/uploads/2023/06/Webinary-2023-10.png
LOCATION:https://tla-kancelaria.pl/wydarzenie/webinar-tla-zmiany-w-kodeksie-pracy/
END:VEVENT
END:VCALENDAR