BEGIN:VCALENDAR
VERSION:2.0
PRODID:-//TLA Kancelaria - ECPv6.15.12.2//NONSGML v1.0//EN
CALSCALE:GREGORIAN
METHOD:PUBLISH
X-WR-CALNAME:TLA Kancelaria
X-ORIGINAL-URL:https://tla-kancelaria.pl
X-WR-CALDESC:Wydarzenia dla TLA Kancelaria
REFRESH-INTERVAL;VALUE=DURATION:PT1H
X-Robots-Tag:noindex
X-PUBLISHED-TTL:PT1H
BEGIN:VTIMEZONE
TZID:Europe/Warsaw
BEGIN:DAYLIGHT
TZOFFSETFROM:+0100
TZOFFSETTO:+0200
TZNAME:CEST
DTSTART:20230326T010000
END:DAYLIGHT
BEGIN:STANDARD
TZOFFSETFROM:+0200
TZOFFSETTO:+0100
TZNAME:CET
DTSTART:20231029T010000
END:STANDARD
BEGIN:DAYLIGHT
TZOFFSETFROM:+0100
TZOFFSETTO:+0200
TZNAME:CEST
DTSTART:20240331T010000
END:DAYLIGHT
BEGIN:STANDARD
TZOFFSETFROM:+0200
TZOFFSETTO:+0100
TZNAME:CET
DTSTART:20241027T010000
END:STANDARD
BEGIN:DAYLIGHT
TZOFFSETFROM:+0100
TZOFFSETTO:+0200
TZNAME:CEST
DTSTART:20250330T010000
END:DAYLIGHT
BEGIN:STANDARD
TZOFFSETFROM:+0200
TZOFFSETTO:+0100
TZNAME:CET
DTSTART:20251026T010000
END:STANDARD
END:VTIMEZONE
BEGIN:VEVENT
DTSTART;TZID=Europe/Warsaw:20241010T110000
DTEND;TZID=Europe/Warsaw:20241010T120000
DTSTAMP:20260421T233249
CREATED:20240904T123801Z
LAST-MODIFIED:20240910T104040Z
UID:23755-1728558000-1728561600@tla-kancelaria.pl
SUMMARY:Nieodpłatne webinarium TLA | Strategia podatkowa - doświadczenia z funkcjonowania obowiązku
DESCRIPTION:Serdecznie zapraszamy Państwa na bezpłatny webinar TLA: Strategia podatkowa – doświadczenia z funkcjonowania obowiązku\, który odbędzie się 10 października 2024 roku o godzinie 11:00. \nPodczas webinaru omówimy takie zagadnienia jak:\n\nCzego dotyczy strategia podatkowa\nNasze doświadczenia z funkcjonowania obowiązku\nZarządzanie funkcją podatkową (strategia podatkowa i tax compliance)\nJakie działania podjąć\, aby sprostać obowiązkom\nKorzyści i zagrożenia związane z formułowaniem strategii podatkowej (na co zwrócić uwagę)\nQ&A\n\nPodczas spotkania Uczestnicy będą mieli możliwość zadawania pytań na czacie\, na które postaramy się odpowiedzieć na końcu webinaru. \nKażdy z zapisanych Uczestników\, po zakończonym spotkaniu otrzyma materiały szkoleniowe (prezentacja i nagranie). \nCzas trwania: 1h  \nProwadzący:\n\nMaciej Kubica – Manager w Kancelarii TLA\, radca prawny\nJakub Skrzyniarz – Konsultant w Kancelarii TLA\n\n  \nUwaga:\n\nProsimy o sprawdzenie poprawności podawanego przez Państwa adresu e-mail\, jeśli adres będzie błędny\, nie otrzymają Państwo maila z linkiem do spotkania.\nZapisy prowadzone są w sposób automatyczny. Jeśli zapisali się Państwo na wydarzenie\, a nie otrzymali maila z linkiem do spotkania\, prosimy o sprawdzenie folderu „spam” Państwa poczty elektronicznej lub o kontakt pod adresem kancelaria@tla-kancelaria.pl.\n\n  \nPartnerzy webinarium:\nCCIFP (Francusko-Polska Izba Gospodarcza) to organizacja zrzeszająca około 400 firm z kapitałem zarówno francuskim\, jak i polskim. Jest jedną z najbardziej aktywnych izb bilateralnych w Polsce. Jej głównym celem jest tworzenie korzystnych warunków dla rozwoju inwestycji i działalności gospodarczej w Polsce.\nBPCC (Brytyjsko-Polska Izba Handlowa) jest organizacją działającą od 1992 roku na rzecz rozwoju polsko-brytyjskiej współpracy gospodarczej. Misją BPCC jest wspieranie interesów swoich członków poprzez promowanie dwustronnego handlu i inwestycji między Polską a Wielką Brytanią.\ninQUBE Uniwersytecki Inkubator Przedsiębiorczości. inQUBE UIP integruje społeczność biznesu. To miejsce pracy\, spotkań\, inspiracji\, nauki i zbierania doświadczeń dla ludzi przedsiębiorczych i aktywnych. Ale oprócz przedsięwzięć edukacyjnych\, inQUBE oferuje miejsca do pracy i spotkań biznesowych. Najemcy mają dostęp do budynku 7 dni w tygodniu\, przez 24 godziny na dobę. Więcej informacji o inkubatorze i organizowanych wydarzeniach można znaleźć na stronie internetowej inQUBE.pl.\nPolska Izba Motoryzacji jest organizacją samorządu gospodarczego zarejestrowaną na podstawie Ustawy o izbach gospodarczych. Powstała w 1994 roku i skupia przedstawicieli szeroko rozumianego lobby sektora motoryzacyjnego. Zrzeszamy zarówno małe jak i duże przedsiębiorstwa i stowarzyszenia działające w Polsce.\nSektorowa Rada ds. Kompetencji Motoryzacja i Elektomobilność – Rada ds. kompetencji w sektorze motoryzacyjnym z uwzględnieniem elektromobilności stanowi ogólnopolską platformę wymiany doświadczeń pomiędzy sferą edukacji formalnej i poza formalnej a przedsiębiorcami. Rada buduje partnerstwa przedsiębiorstw z instytucjami rynku pracy\, co pozwala na dostarczenie wiarygodnych danych o potrzebach kwalifikacji w sektorze. W ramach projektu odbiorcami wsparcia są przedsiębiorcy z branży motoryzacyjnej z uwzględnieniem elektromobilności.\nSuwalska Specjalna Strefa Ekonomiczna jest jedną z czternastu specjalnych stref ekonomicznych w Polsce\, które powstały\, aby służyć przyspieszeniu wzrostu gospodarczego w danej części kraju. Organem zarządzającym Strefą jest Suwalska Specjalna Strefa Ekonomiczna Spółka Akcyjna\, która od 1996 r. realizuje cele i zadania warunkujące funkcjonowanie specjalnej strefy ekonomicznej w północno-wschodniej części Polski. Obecnie Suwalska Specjalna Strefa Ekonomiczna S.A. pełni funkcję zarządzającego obszarem wspierania nowych inwestycji o łącznej powierzchni ok. 26 414 km² (2 641 400 ha)\n \n 
URL:https://tla-kancelaria.pl/wydarzenie/webinar-tla-strategia-podatkowa-doswiadczenia-z-funkcjonowania-obowiazku/
CATEGORIES:Podatki
ATTACH;FMTTYPE=image/jpeg:https://tla-kancelaria.pl/wp-content/uploads/2024/09/20240829_Strategia-podatkowa-TLA-TLA-1.jpg
ORGANIZER;CN="TLA Kancelaria":MAILTO:kancelaria@tla-kancelaria.pl
LOCATION:https://tla-kancelaria.pl/wydarzenie/webinar-tla-strategia-podatkowa-doswiadczenia-z-funkcjonowania-obowiazku/
END:VEVENT
END:VCALENDAR