BEGIN:VCALENDAR
VERSION:2.0
PRODID:-//TLA Kancelaria - ECPv6.15.12.2//NONSGML v1.0//EN
CALSCALE:GREGORIAN
METHOD:PUBLISH
X-WR-CALNAME:TLA Kancelaria
X-ORIGINAL-URL:https://tla-kancelaria.pl
X-WR-CALDESC:Wydarzenia dla TLA Kancelaria
REFRESH-INTERVAL;VALUE=DURATION:PT1H
X-Robots-Tag:noindex
X-PUBLISHED-TTL:PT1H
BEGIN:VTIMEZONE
TZID:Europe/Warsaw
BEGIN:DAYLIGHT
TZOFFSETFROM:+0100
TZOFFSETTO:+0200
TZNAME:CEST
DTSTART:20210328T010000
END:DAYLIGHT
BEGIN:STANDARD
TZOFFSETFROM:+0200
TZOFFSETTO:+0100
TZNAME:CET
DTSTART:20211031T010000
END:STANDARD
BEGIN:DAYLIGHT
TZOFFSETFROM:+0100
TZOFFSETTO:+0200
TZNAME:CEST
DTSTART:20220327T010000
END:DAYLIGHT
BEGIN:STANDARD
TZOFFSETFROM:+0200
TZOFFSETTO:+0100
TZNAME:CET
DTSTART:20221030T010000
END:STANDARD
BEGIN:DAYLIGHT
TZOFFSETFROM:+0100
TZOFFSETTO:+0200
TZNAME:CEST
DTSTART:20230326T010000
END:DAYLIGHT
BEGIN:STANDARD
TZOFFSETFROM:+0200
TZOFFSETTO:+0100
TZNAME:CET
DTSTART:20231029T010000
END:STANDARD
END:VTIMEZONE
BEGIN:VEVENT
DTSTART;TZID=Europe/Warsaw:20221208T110000
DTEND;TZID=Europe/Warsaw:20221208T120000
DTSTAMP:20260422T164543
CREATED:20221122T075533Z
LAST-MODIFIED:20221201T070110Z
UID:17267-1670497200-1670500800@tla-kancelaria.pl
SUMMARY:Webinar TLA - Zmiany w prawie pracy w 2023 roku
DESCRIPTION:Zagadnienia\, które omówimy podczas webinaru:\n\nPraca zdalna\nKontrola trzeźwości.\nObowiązki informacyjne pracodawców.\nNowe obowiązki w zakresie szkoleń pracowników.\nInne wybrane zmiany.\n\nProwadzący:\n\nJulia Bar – Manager w Kancelarii TLA\, radca prawny\nMarcin Dobras – Konsultant w Kancelarii TLA\, aplikant radcowski\n\n  \nPartnerzy webinarium:\ninQUBE Uniwersytecki Inkubator Przedsiębiorczości. inQUBE UIP integruje społeczność biznesu. To miejsce pracy\, spotkań\, inspiracji\, nauki i zbierania doświadczeń dla ludzi przedsiębiorczych i aktywnych. Ale oprócz przedsięwzięć edukacyjnych\, inQUBE oferuje miejsca do pracy i spotkań biznesowych. Najemcy mają dostęp do budynku 7 dni w tygodniu\, przez 24 godziny na dobę. Więcej informacji o inkubatorze i organizowanych wydarzeniach można znaleźć na stronie internetowej inQUBE.pl.\nPolska Izba Motoryzacji jest organizacją samorządu gospodarczego zarejestrowaną na podstawie Ustawy o izbach gospodarczych. Powstała w 1994 roku i skupia przedstawicieli szeroko rozumianego lobby sektora motoryzacyjnego. Zrzeszamy zarówno małe jak i duże przedsiębiorstwa i stowarzyszenia działające w Polsce.\nSektorowa Rada ds. Kompetencji Motoryzacja i Elektomobilność – Rada ds. kompetencji w sektorze motoryzacyjnym z uwzględnieniem elektromobilności stanowi ogólnopolską platformę wymiany doświadczeń pomiędzy sferą edukacji formalnej i poza formalnej a przedsiębiorcami. Rada buduje partnerstwa przedsiębiorstw z instytucjami rynku pracy\, co pozwala na dostarczenie wiarygodnych danych o potrzebach kwalifikacji w sektorze. W ramach projektu odbiorcami wsparcia są przedsiębiorcy z branży motoryzacyjnej z uwzględnieniem elektromobilności.\nSuwalska Specjalna Strefa Ekonomiczna jest jedną z czternastu specjalnych stref ekonomicznych w Polsce\, które powstały\, aby służyć przyspieszeniu wzrostu gospodarczego w danej części kraju. Organem zarządzającym Strefą jest Suwalska Specjalna Strefa Ekonomiczna Spółka Akcyjna\, która od 1996 r. realizuje cele i zadania warunkujące funkcjonowanie specjalnej strefy ekonomicznej w północno-wschodniej części Polski. Obecnie Suwalska Specjalna Strefa Ekonomiczna S.A. pełni funkcję zarządzającego obszarem wspierania nowych inwestycji o łącznej powierzchni ok. 26 414 km² (2 641 400 ha)\nLegnicka Specjalna Strefa Ekonomiczna – działa w południowo-zachodniej Polsce\, na terenie województwa dolnośląskiego\, jednego z najdynamiczniej rozwijających się obszarów w Polsce. W 2022 r. przypada 25-lecie istnienia spółki. LSSE do dziś to 77 inwestorów z wielu zakątków świata\, blisko 1\,4 tys. ha terenów inwestycyjnych. Ponad 12 mld zł inwestycji i – przede wszystkim – blisko 20 tys. miejsc pracy\, aż dwukrotnie więcej niż inwestorzy planowali..\n \n\n\n\n\n\n\n\n\n\n 
URL:https://tla-kancelaria.pl/wydarzenie/webinar-tla-zmiany-w-prawie-pracy-w-2023-roku/
ATTACH;FMTTYPE=image/png:https://tla-kancelaria.pl/wp-content/uploads/2022/11/Webinary-2022-10.png
ORGANIZER;CN="TLA Kancelaria":MAILTO:kancelaria@tla-kancelaria.pl
LOCATION:https://tla-kancelaria.pl/wydarzenie/webinar-tla-zmiany-w-prawie-pracy-w-2023-roku/
END:VEVENT
BEGIN:VEVENT
DTSTART;TZID=Europe/Warsaw:20220519T110000
DTEND;TZID=Europe/Warsaw:20220519T120000
DTSTAMP:20260422T164543
CREATED:20220427T080324Z
LAST-MODIFIED:20220516T073415Z
UID:14566-1652958000-1652961600@tla-kancelaria.pl
SUMMARY:Webinar TLA - Prawo pracy - rewolucyjne zmiany?
DESCRIPTION:Serdecznie zapraszamy Państwa na bezpłatny webinar TLA: „Prawo pracy – rewolucyjne zmiany?”\, który odbędzie się już 19 maja 2022 roku o godzinie 11:00. \n\nPodczas webinaru omówimy takie zagadnienia jak np.:\n\nOmówienie zmian w zakresie zawierania umów o pracę na okres próbny i czas określony.\nObowiązki informacyjne pracodawców.\nNowe obowiązki w zakresie szkoleń pracowników.\nOmówienie zmian w zakresie urlopów i dni wolnych od pracy.\nInne planowane zmiany.\n\n  \nPodczas spotkania będzie możliwość zadawania pytań przez Uczestników\, na które postaramy się odpowiedzieć na końcu webinaru. \nPonadto każdy z zapisanych Uczestników\, po zakończonym spotkaniu otrzyma materiały szkoleniowe (prezentacja i nagranie). \nCzas trwania: 1h\nProwadzący:\n\nIzabela Mendyk-Pichur – Partner w Kancelarii TLA\, radca prawny\nMarcin Dobras – Konsultant w Kancelarii TLA\, aplikant radcowski\n\n  \nPartnerzy webinarium:\ninQUBE Uniwersytecki Inkubator Przedsiębiorczości. inQUBE UIP integruje społeczność biznesu. To miejsce pracy\, spotkań\, inspiracji\, nauki i zbierania doświadczeń dla ludzi przedsiębiorczych i aktywnych. Ale oprócz przedsięwzięć edukacyjnych\, inQUBE oferuje miejsca do pracy i spotkań biznesowych. Najemcy mają dostęp do budynku 7 dni w tygodniu\, przez 24 godziny na dobę. Więcej informacji o inkubatorze i organizowanych wydarzeniach można znaleźć na stronie internetowej inQUBE.pl.\nPolska Izba Motoryzacji jest organizacją samorządu gospodarczego zarejestrowaną na podstawie Ustawy o izbach gospodarczych. Powstała w 1994 roku i skupia przedstawicieli szeroko rozumianego lobby sektora motoryzacyjnego. Zrzeszamy zarówno małe jak i duże przedsiębiorstwa i stowarzyszenia działające w Polsce.\nSektorowa Rada ds. Kompetencji Motoryzacja i Elektomobilność – Rada ds. kompetencji w sektorze motoryzacyjnym z uwzględnieniem elektromobilności stanowi ogólnopolską platformę wymiany doświadczeń pomiędzy sferą edukacji formalnej i poza formalnej a przedsiębiorcami. Rada buduje partnerstwa przedsiębiorstw z instytucjami rynku pracy\, co pozwala na dostarczenie wiarygodnych danych o potrzebach kwalifikacji w sektorze. W ramach projektu odbiorcami wsparcia są przedsiębiorcy z branży motoryzacyjnej z uwzględnieniem elektromobilności.\nSuwalska Specjalna Strefa Ekonomiczna jest jedną z czternastu specjalnych stref ekonomicznych w Polsce\, które powstały\, aby służyć przyspieszeniu wzrostu gospodarczego w danej części kraju. Organem zarządzającym Strefą jest Suwalska Specjalna Strefa Ekonomiczna Spółka Akcyjna\, która od 1996 r. realizuje cele i zadania warunkujące funkcjonowanie specjalnej strefy ekonomicznej w północno-wschodniej części Polski. Obecnie Suwalska Specjalna Strefa Ekonomiczna S.A. pełni funkcję zarządzającego obszarem wspierania nowych inwestycji o łącznej powierzchni ok. 26 414 km² (2 641 400 ha)
URL:https://tla-kancelaria.pl/wydarzenie/webinar-tla-prawo-pracy-rewolucyjne-zmiany/
ATTACH;FMTTYPE=image/png:https://tla-kancelaria.pl/wp-content/uploads/2022/04/Webinar-19.png
LOCATION:https://tla-kancelaria.pl/wydarzenie/webinar-tla-prawo-pracy-rewolucyjne-zmiany/
END:VEVENT
END:VCALENDAR