BEGIN:VCALENDAR
VERSION:2.0
PRODID:-//TLA Kancelaria - ECPv6.15.12.2//NONSGML v1.0//EN
CALSCALE:GREGORIAN
METHOD:PUBLISH
X-ORIGINAL-URL:https://tla-kancelaria.pl
X-WR-CALDESC:Wydarzenia dla TLA Kancelaria
REFRESH-INTERVAL;VALUE=DURATION:PT1H
X-Robots-Tag:noindex
X-PUBLISHED-TTL:PT1H
BEGIN:VTIMEZONE
TZID:Europe/Warsaw
BEGIN:DAYLIGHT
TZOFFSETFROM:+0100
TZOFFSETTO:+0200
TZNAME:CEST
DTSTART:20210328T010000
END:DAYLIGHT
BEGIN:STANDARD
TZOFFSETFROM:+0200
TZOFFSETTO:+0100
TZNAME:CET
DTSTART:20211031T010000
END:STANDARD
BEGIN:DAYLIGHT
TZOFFSETFROM:+0100
TZOFFSETTO:+0200
TZNAME:CEST
DTSTART:20220327T010000
END:DAYLIGHT
BEGIN:STANDARD
TZOFFSETFROM:+0200
TZOFFSETTO:+0100
TZNAME:CET
DTSTART:20221030T010000
END:STANDARD
BEGIN:DAYLIGHT
TZOFFSETFROM:+0100
TZOFFSETTO:+0200
TZNAME:CEST
DTSTART:20230326T010000
END:DAYLIGHT
BEGIN:STANDARD
TZOFFSETFROM:+0200
TZOFFSETTO:+0100
TZNAME:CET
DTSTART:20231029T010000
END:STANDARD
END:VTIMEZONE
BEGIN:VEVENT
DTSTART;TZID=Europe/Warsaw:20220317T130000
DTEND;TZID=Europe/Warsaw:20220317T140000
DTSTAMP:20260419T163446
CREATED:20220207T130159Z
LAST-MODIFIED:20220207T130657Z
UID:13522-1647522000-1647525600@tla-kancelaria.pl
SUMMARY:Webinar TLA - O czym pamiętać przy rozliczeniu CIT’a za 2021 rok
DESCRIPTION:Serdecznie zapraszamy Państwa na bezpłatny webinar TLA: „O czym pamiętać przy rozliczeniu CIT’a za 2021 rok”\, który odbędzie się już 17 marca 2022 roku o godzinie 13:00. \n\nPodczas webinaru omówimy takie zagadnienia jak np.:\n\nUlgi i ułatwienia obowiązujące w związku z pandemią na mocy Tarcz Antykryzysowych\nKwestie wątpliwe powstające podczas kalkulacji wyniku podatkowego\nRaportowanie MDR za 2021 rok\n\n  \nPodczas spotkania będzie możliwość zadawania pytań przez Uczestników\, na które postaramy się odpowiedzieć na końcu webinaru. \nPonadto każdy z zapisanych Uczestników\, po zakończonym spotkaniu otrzyma materiały szkoleniowe (prezentacja i nagranie). \nCzas trwania: 1h\nProwadzący:\n\nKrzysztof Koniewski – Partner w Kancelarii TLA\, doradca podatkowy\nMaciej Kubica – Manager w Kancelarii TLA\, radca prawny\n\n  \nPartnerzy webinarium:\ninQUBE Uniwersytecki Inkubator Przedsiębiorczości. inQUBE UIP integruje społeczność biznesu. To miejsce pracy\, spotkań\, inspiracji\, nauki i zbierania doświadczeń dla ludzi przedsiębiorczych i aktywnych. Ale oprócz przedsięwzięć edukacyjnych\, inQUBE oferuje miejsca do pracy i spotkań biznesowych. Najemcy mają dostęp do budynku 7 dni w tygodniu\, przez 24 godziny na dobę. Więcej informacji o inkubatorze i organizowanych wydarzeniach można znaleźć na stronie internetowej inQUBE.pl.\nPolska Izba Motoryzacji jest organizacją samorządu gospodarczego zarejestrowaną na podstawie Ustawy o izbach gospodarczych. Powstała w 1994 roku i skupia przedstawicieli szeroko rozumianego lobby sektora motoryzacyjnego. Zrzeszamy zarówno małe jak i duże przedsiębiorstwa i stowarzyszenia działające w Polsce.\nSektorowa Rada ds. Kompetencji Motoryzacja i Elektomobilność – Rada ds. kompetencji w sektorze motoryzacyjnym z uwzględnieniem elektromobilności stanowi ogólnopolską platformę wymiany doświadczeń pomiędzy sferą edukacji formalnej i poza formalnej a przedsiębiorcami. Rada buduje partnerstwa przedsiębiorstw z instytucjami rynku pracy\, co pozwala na dostarczenie wiarygodnych danych o potrzebach kwalifikacji w sektorze. W ramach projektu odbiorcami wsparcia są przedsiębiorcy z branży motoryzacyjnej z uwzględnieniem elektromobilności.\nSuwalska Specjalna Strefa Ekonomiczna jest jedną z czternastu specjalnych stref ekonomicznych w Polsce\, które powstały\, aby służyć przyspieszeniu wzrostu gospodarczego w danej części kraju. Organem zarządzającym Strefą jest Suwalska Specjalna Strefa Ekonomiczna Spółka Akcyjna\, która od 1996 r. realizuje cele i zadania warunkujące funkcjonowanie specjalnej strefy ekonomicznej w północno-wschodniej części Polski. Obecnie Suwalska Specjalna Strefa Ekonomiczna S.A. pełni funkcję zarządzającego obszarem wspierania nowych inwestycji o łącznej powierzchni ok. 26 414 km² (2 641 400 ha)
URL:https://tla-kancelaria.pl/wydarzenie/webinar-tla-rozliczanie-cit-za-2021/
ATTACH;FMTTYPE=image/png:https://tla-kancelaria.pl/wp-content/uploads/2022/02/O-czym-pamietac-przy-rozliczaniu-CITa-za-2021-rok.png
ORGANIZER;CN="TLA Kancelaria":MAILTO:kancelaria@tla-kancelaria.pl
LOCATION:https://tla-kancelaria.pl/wydarzenie/webinar-tla-rozliczanie-cit-za-2021/
END:VEVENT
END:VCALENDAR