BEGIN:VCALENDAR
VERSION:2.0
PRODID:-//TLA Kancelaria - ECPv6.15.12.2//NONSGML v1.0//EN
CALSCALE:GREGORIAN
METHOD:PUBLISH
X-ORIGINAL-URL:https://tla-kancelaria.pl
X-WR-CALDESC:Wydarzenia dla TLA Kancelaria
REFRESH-INTERVAL;VALUE=DURATION:PT1H
X-Robots-Tag:noindex
X-PUBLISHED-TTL:PT1H
BEGIN:VTIMEZONE
TZID:Europe/Warsaw
BEGIN:DAYLIGHT
TZOFFSETFROM:+0100
TZOFFSETTO:+0200
TZNAME:CEST
DTSTART:20210328T010000
END:DAYLIGHT
BEGIN:STANDARD
TZOFFSETFROM:+0200
TZOFFSETTO:+0100
TZNAME:CET
DTSTART:20211031T010000
END:STANDARD
BEGIN:DAYLIGHT
TZOFFSETFROM:+0100
TZOFFSETTO:+0200
TZNAME:CEST
DTSTART:20220327T010000
END:DAYLIGHT
BEGIN:STANDARD
TZOFFSETFROM:+0200
TZOFFSETTO:+0100
TZNAME:CET
DTSTART:20221030T010000
END:STANDARD
BEGIN:DAYLIGHT
TZOFFSETFROM:+0100
TZOFFSETTO:+0200
TZNAME:CEST
DTSTART:20230326T010000
END:DAYLIGHT
BEGIN:STANDARD
TZOFFSETFROM:+0200
TZOFFSETTO:+0100
TZNAME:CET
DTSTART:20231029T010000
END:STANDARD
END:VTIMEZONE
BEGIN:VEVENT
DTSTART;TZID=Europe/Warsaw:20221108T110000
DTEND;TZID=Europe/Warsaw:20221108T120000
DTSTAMP:20260423T002816
CREATED:20221025T073327Z
LAST-MODIFIED:20221027T133240Z
UID:16859-1667905200-1667908800@tla-kancelaria.pl
SUMMARY:Webinar TLA - Zmiany w podatkach na 2023 rok
DESCRIPTION:Zagadnienia\, które omówimy podczas webinaru:\n\nModyfikacje ryczałtu od dochodów spółek (Estoński CIT) – m.in. o tym co z samochodami udostępnianymi pracownikom;\nRetroaktywne zmiany w WHT dotyczące oświadczeń płatnika – na co zwrócić uwagę na początku 2023 r.;\nPodatek od przerzuconych dochodów – o tym jak drobna zmiana definicji znacznie upowszechni obowiązek;\nFinansowanie dłużne – doprecyzowanie i liberalizacja zasad;\nPodatek minimalny – w jakim przypadkach i od kiedy należy zarządzić tematem;\nZmiany w TP – czyli nowe progi dokumentacyjne\, zmiany w ORD-U i uchylenie regulacji dotyczących „pośrednich transakcji rajowych”;\nZagraniczna jednostka kontrolowana (CFC) – zmiany redakcyjne i doprecyzowujące;\nUkryta dywidenda – czyli jak ukrócić planowanie podatkowe przepisami\, które nigdy nie weszły w życie;\nRozliczanie strat w PGK – czy tylko doprecyzowanie przepisów?\nUlga na złe długi – uproszczenie obowiązków;\nPolska Spółka Holdingowa – uatrakcyjnienie modelu działania;\n\nProwadzący:\n\nMaciej Kubica – Manager w Kancelarii TLA\, radca prawny\nWiktoria Szpineta – Starszy konsultant w Kancelarii TLA\n\n  \nPartnerzy webinarium:\ninQUBE Uniwersytecki Inkubator Przedsiębiorczości. inQUBE UIP integruje społeczność biznesu. To miejsce pracy\, spotkań\, inspiracji\, nauki i zbierania doświadczeń dla ludzi przedsiębiorczych i aktywnych. Ale oprócz przedsięwzięć edukacyjnych\, inQUBE oferuje miejsca do pracy i spotkań biznesowych. Najemcy mają dostęp do budynku 7 dni w tygodniu\, przez 24 godziny na dobę. Więcej informacji o inkubatorze i organizowanych wydarzeniach można znaleźć na stronie internetowej inQUBE.pl.\nPolska Izba Motoryzacji jest organizacją samorządu gospodarczego zarejestrowaną na podstawie Ustawy o izbach gospodarczych. Powstała w 1994 roku i skupia przedstawicieli szeroko rozumianego lobby sektora motoryzacyjnego. Zrzeszamy zarówno małe jak i duże przedsiębiorstwa i stowarzyszenia działające w Polsce.\nSektorowa Rada ds. Kompetencji Motoryzacja i Elektomobilność – Rada ds. kompetencji w sektorze motoryzacyjnym z uwzględnieniem elektromobilności stanowi ogólnopolską platformę wymiany doświadczeń pomiędzy sferą edukacji formalnej i poza formalnej a przedsiębiorcami. Rada buduje partnerstwa przedsiębiorstw z instytucjami rynku pracy\, co pozwala na dostarczenie wiarygodnych danych o potrzebach kwalifikacji w sektorze. W ramach projektu odbiorcami wsparcia są przedsiębiorcy z branży motoryzacyjnej z uwzględnieniem elektromobilności.\nSuwalska Specjalna Strefa Ekonomiczna jest jedną z czternastu specjalnych stref ekonomicznych w Polsce\, które powstały\, aby służyć przyspieszeniu wzrostu gospodarczego w danej części kraju. Organem zarządzającym Strefą jest Suwalska Specjalna Strefa Ekonomiczna Spółka Akcyjna\, która od 1996 r. realizuje cele i zadania warunkujące funkcjonowanie specjalnej strefy ekonomicznej w północno-wschodniej części Polski. Obecnie Suwalska Specjalna Strefa Ekonomiczna S.A. pełni funkcję zarządzającego obszarem wspierania nowych inwestycji o łącznej powierzchni ok. 26 414 km² (2 641 400 ha)\nLegnicka Specjalna Strefa Ekonomiczna – działa w południowo-zachodniej Polsce\, na terenie województwa dolnośląskiego\, jednego z najdynamiczniej rozwijających się obszarów w Polsce. W 2022 r. przypada 25-lecie istnienia spółki. LSSE do dziś to 77 inwestorów z wielu zakątków świata\, blisko 1\,4 tys. ha terenów inwestycyjnych. Ponad 12 mld zł inwestycji i – przede wszystkim – blisko 20 tys. miejsc pracy\, aż dwukrotnie więcej niż inwestorzy planowali..\n \n\n\n\n\n\n\n\n\n\n 
URL:https://tla-kancelaria.pl/wydarzenie/webinar-tla-zmiany-w-podatkach-na-2023-rok/
ATTACH;FMTTYPE=image/png:https://tla-kancelaria.pl/wp-content/uploads/2022/10/Webinary-2022-5.png
ORGANIZER;CN="TLA Kancelaria":MAILTO:kancelaria@tla-kancelaria.pl
LOCATION:https://tla-kancelaria.pl/wydarzenie/webinar-tla-zmiany-w-podatkach-na-2023-rok/
END:VEVENT
END:VCALENDAR